BEGIN:VCALENDAR
VERSION:2.0
PRODID:-//Gartenbauverein Bad Bayersoien - ECPv6.15.20//NONSGML v1.0//EN
CALSCALE:GREGORIAN
METHOD:PUBLISH
X-ORIGINAL-URL:https://gartenbauverein-bayersoien.de
X-WR-CALDESC:Veranstaltungen für Gartenbauverein Bad Bayersoien
REFRESH-INTERVAL;VALUE=DURATION:PT1H
X-Robots-Tag:noindex
X-PUBLISHED-TTL:PT1H
BEGIN:VTIMEZONE
TZID:Europe/Paris
BEGIN:DAYLIGHT
TZOFFSETFROM:+0100
TZOFFSETTO:+0200
TZNAME:CEST
DTSTART:20250330T010000
END:DAYLIGHT
BEGIN:STANDARD
TZOFFSETFROM:+0200
TZOFFSETTO:+0100
TZNAME:CET
DTSTART:20251026T010000
END:STANDARD
BEGIN:DAYLIGHT
TZOFFSETFROM:+0100
TZOFFSETTO:+0200
TZNAME:CEST
DTSTART:20260329T010000
END:DAYLIGHT
BEGIN:STANDARD
TZOFFSETFROM:+0200
TZOFFSETTO:+0100
TZNAME:CET
DTSTART:20261025T010000
END:STANDARD
BEGIN:DAYLIGHT
TZOFFSETFROM:+0100
TZOFFSETTO:+0200
TZNAME:CEST
DTSTART:20270328T010000
END:DAYLIGHT
BEGIN:STANDARD
TZOFFSETFROM:+0200
TZOFFSETTO:+0100
TZNAME:CET
DTSTART:20271031T010000
END:STANDARD
END:VTIMEZONE
BEGIN:VEVENT
DTSTART;TZID=Europe/Paris:20260303T193000
DTEND;TZID=Europe/Paris:20260303T210000
DTSTAMP:20260419T170754
CREATED:20251216T105649Z
LAST-MODIFIED:20251216T105649Z
UID:770-1772566200-1772571600@gartenbauverein-bayersoien.de
SUMMARY:VORTRAG: „Lokale Unwetter – Fokus sommerliche Gewitter“ (mit Stefan Schwarzer)
DESCRIPTION:Sommerliche Gewitter gehören zu den faszinierendsten – aber auch gefährlichsten Wettererscheinungen in unseren Alpen und Voralpen. Besonders für Wanderer\, Bergsteiger\, Mountainbiker und alle\, die sich in der Natur bewegen\, können sie plötzlich und unberechenbar auftreten. Seit Jahren häufen sich Unfälle in den Bergen\, die auf fehlende Vorbereitung oder Fehleinschätzungen des Wetters zurückzuführen sind. Doch mit dem richtigen Wissen lassen sich Risiken minimieren – oder sogar vermeiden. \nIn diesem Vortrag zu lokalen Unwettern widmen wir uns den sommerlichen Gewittern: Wie entstehen sie? Warum sind Blitze so gefährlich? Und wie erkenne ich frühzeitig\, wann ich meine Tour abbrechen sollte? \nStefan Schwarzer\, Betreiber der privaten Wetterstation Peißenberg und erfahrener Wetterexperte\, vermittelt praktisches Wissen\, das im Ernstfall Leben retten kann. Sein Fokus liegt auf verständlichen Erklärungen und konkreten Handlungsempfehlungen – ohne komplizierte Meteorologie\, aber mit vielen Beispielen aus der Praxis. \n\nDetails zum Vortrag: \n\nEntstehung von Gewittern\nEntstehung von Blitzen\nUnterschiede zwischen verschiedenen Zelltypen\nWas kann ich beobachten?\nAuftretende Gefahren\nVerhalten bei Gewittern\nVorhersagemöglichkeiten\, Technische Hilfsmittel\n\n\nWir freuen uns auf einen informativen und spannenden Abend mit euch!
URL:https://gartenbauverein-bayersoien.de/veranstaltung/vortrag-lokale-unwetter-fokus-sommerliche-gewitter-mit-stefan-schwarzer/
ATTACH;FMTTYPE=image/jpeg:https://gartenbauverein-bayersoien.de/wp-content/uploads/2024/12/646_image_468714824_546927364921155_3189617169058405457_n.jpg
END:VEVENT
BEGIN:VEVENT
DTSTART;TZID=Europe/Paris:20260314T190000
DTEND;TZID=Europe/Paris:20260314T210000
DTSTAMP:20260419T170754
CREATED:20250904T175424Z
LAST-MODIFIED:20260310T073835Z
UID:717-1773514800-1773522000@gartenbauverein-bayersoien.de
SUMMARY:**ABGESAGT** Der Chinesische Turm im Englischen Garten
DESCRIPTION:**ABSAGE** Leider muss der Vortrag aufgrund von Krankheit abgesagt werden. Wir werden euch über einen Ersatztermin informieren.  \n— \nBernd Rogge gibt uns einen spannenden Blick auf Geschichte\, Architektur und Bedeutung des Münchner Wahrzeichens. Ein Abend voller überraschender Einblicke in ein Stück bayerische Kulturgeschichte\, das vielen bekannt erscheint – und doch noch so viel Neues zu erzählen hat. Eintritt frei!
URL:https://gartenbauverein-bayersoien.de/veranstaltung/der-chinesische-turm-im-englischen-garten/
LOCATION:Gunklstube\, Brandstatt 12\, 82435 Bad Bayersoien
END:VEVENT
END:VCALENDAR