BEGIN:VCALENDAR
VERSION:2.0
PRODID:-//Gartenbauverein Bad Bayersoien - ECPv6.15.20//NONSGML v1.0//EN
CALSCALE:GREGORIAN
METHOD:PUBLISH
X-ORIGINAL-URL:https://gartenbauverein-bayersoien.de
X-WR-CALDESC:Veranstaltungen für Gartenbauverein Bad Bayersoien
REFRESH-INTERVAL;VALUE=DURATION:PT1H
X-Robots-Tag:noindex
X-PUBLISHED-TTL:PT1H
BEGIN:VTIMEZONE
TZID:Europe/Paris
BEGIN:DAYLIGHT
TZOFFSETFROM:+0100
TZOFFSETTO:+0200
TZNAME:CEST
DTSTART:20240331T010000
END:DAYLIGHT
BEGIN:STANDARD
TZOFFSETFROM:+0200
TZOFFSETTO:+0100
TZNAME:CET
DTSTART:20241027T010000
END:STANDARD
BEGIN:DAYLIGHT
TZOFFSETFROM:+0100
TZOFFSETTO:+0200
TZNAME:CEST
DTSTART:20250330T010000
END:DAYLIGHT
BEGIN:STANDARD
TZOFFSETFROM:+0200
TZOFFSETTO:+0100
TZNAME:CET
DTSTART:20251026T010000
END:STANDARD
BEGIN:DAYLIGHT
TZOFFSETFROM:+0100
TZOFFSETTO:+0200
TZNAME:CEST
DTSTART:20260329T010000
END:DAYLIGHT
BEGIN:STANDARD
TZOFFSETFROM:+0200
TZOFFSETTO:+0100
TZNAME:CET
DTSTART:20261025T010000
END:STANDARD
END:VTIMEZONE
BEGIN:VTIMEZONE
TZID:Europe/Berlin
BEGIN:DAYLIGHT
TZOFFSETFROM:+0100
TZOFFSETTO:+0200
TZNAME:CEST
DTSTART:20240331T010000
END:DAYLIGHT
BEGIN:STANDARD
TZOFFSETFROM:+0200
TZOFFSETTO:+0100
TZNAME:CET
DTSTART:20241027T010000
END:STANDARD
BEGIN:DAYLIGHT
TZOFFSETFROM:+0100
TZOFFSETTO:+0200
TZNAME:CEST
DTSTART:20250330T010000
END:DAYLIGHT
BEGIN:STANDARD
TZOFFSETFROM:+0200
TZOFFSETTO:+0100
TZNAME:CET
DTSTART:20251026T010000
END:STANDARD
BEGIN:DAYLIGHT
TZOFFSETFROM:+0100
TZOFFSETTO:+0200
TZNAME:CEST
DTSTART:20260329T010000
END:DAYLIGHT
BEGIN:STANDARD
TZOFFSETFROM:+0200
TZOFFSETTO:+0100
TZNAME:CET
DTSTART:20261025T010000
END:STANDARD
END:VTIMEZONE
BEGIN:VEVENT
DTSTART;TZID=Europe/Paris:20250303T193700
DTEND;TZID=Europe/Paris:20250303T235900
DTSTAMP:20260421T102909
CREATED:20250124T103649Z
LAST-MODIFIED:20250129T094028Z
UID:676-1741030620-1741046340@gartenbauverein-bayersoien.de
SUMMARY:Einladung zum Dorfball der Soier Vereine
DESCRIPTION:Die Soier Vereine laden herzlich zum traditionellen Dorfball am Rosenmontag\, den 3. März 2025\, ein. Die Veranstaltung findet im Dorfstadl in Bad Bayersoien statt. Einlass ist ab 19:37 Uhr. \nFür die musikalische Unterhaltung sorgt die Bayersoier Blaskapelle mit Live-Musik. Zudem dürfen sich die Gäste auf einen besonderen Auftritt der Prinzengarde aus Schongau freuen. \nDer Eintritt beträgt 5 Euro. Alle Faschingsbegeisterten sind herzlich eingeladen\, gemeinsam einen geselligen Abend zu verbringen. \n🎭 Veranstalter: Soier Vereine\n📅 Datum: Montag\, 3. März 2025\n⏰ Einlass: ab 19:37 Uhr\n📍 Ort: Dorfstadl\, Bad Bayersoien\n🎟️ Eintritt: 5 Euro \nWir freuen uns auf Euer Kommen!
URL:https://gartenbauverein-bayersoien.de/veranstaltung/einladung-zum-dorfball-der-soier-vereine/
ATTACH;FMTTYPE=image/jpeg:https://gartenbauverein-bayersoien.de/wp-content/uploads/2025/01/Dorfball.jpg
END:VEVENT
BEGIN:VEVENT
DTSTART;TZID=Europe/Berlin:20250315T100000
DTEND;TZID=Europe/Berlin:20250315T120000
DTSTAMP:20260421T102909
CREATED:20241205T121936Z
LAST-MODIFIED:20241205T121936Z
UID:644-1742032800-1742040000@gartenbauverein-bayersoien.de
SUMMARY:Baumschneidekurs Frühlingsschnitt alte & neue Bäume
DESCRIPTION:Im Garten vom Haserhof erklärt und zeigt uns Daniel Haser\, wie wir Obstbäume unterschiedlichen Alters schneiden – oder auch nicht. Welche Rolle spielen Wind und Wetter\, Leittriebe\, potenzielle Schneelast und der Ertragswunsch? Und wie können wir mit Verletzungen der Bäume z. B. durch Hagel umgehen? \nKurzweilig und lebendig ist dieser Vormittag\, immer wieder absolut lohnend für Anfänger:innen und auch für diejenigen\, die schon lange selbst ihre Bäume schneiden. \nTeilnahme kostenlos. Warme Stiefel empfohlen!
URL:https://gartenbauverein-bayersoien.de/veranstaltung/baumschneidekurs-fruehlingsschnitt-alte-neue-baeume/
LOCATION:Haserhof\, Filzweg 6\, Bayersoien\, 82435\, DE
ATTACH;FMTTYPE=image/jpeg:https://gartenbauverein-bayersoien.de/wp-content/uploads/2024/12/644_image_469027905_546923158254909_3388262393928998198_n.jpg
END:VEVENT
BEGIN:VEVENT
DTSTART;TZID=Europe/Berlin:20250322T153000
DTEND;TZID=Europe/Berlin:20250322T153000
DTSTAMP:20260421T102909
CREATED:20241205T121945Z
LAST-MODIFIED:20241205T121945Z
UID:648-1742657400-1742657400@gartenbauverein-bayersoien.de
SUMMARY:VORTRAG: Gartenarbeit ohne Rückenschmerzen - geht das?
DESCRIPTION:Die Arbeit in unseren Gärten ist eine wunderbare Tätigkeit\, in der wir uns auf eine aktive Art regenerieren können und bei der alle Sinne angesprochen werden. Ein Teil der Arbeit ist allerdings auch mit körperlichem Einsatz verbunden\, der uns sehr fordern kann. \nDieser Vortrag ist eine Verbindung zwischen der Wahrnehmung unseres Körpers mit einfachen Übungen und Wissen über körperliche Zusammenhänge. Auch das Zusammenwirken von Körper\, Geist und Seele sowie viele praktische Tipps\, die sofort im Alltag umgesetzt werden können\, fließen in diesen Vortrag mit ein. \nWenn ihr diese Anregungen beachtet\, werdet ihr auch nachhaltig Freude an der Gartenarbeit haben!
URL:https://gartenbauverein-bayersoien.de/veranstaltung/vortrag-gartenarbeit-ohne-rueckenschmerzen-geht-das/
LOCATION:Gunklstube\, Brandstatt 12\, Bad Bayersoien
ATTACH;FMTTYPE=image/jpeg:https://gartenbauverein-bayersoien.de/wp-content/uploads/2024/12/648_image_469209734_546928998254325_5047823747150767487_n.jpg
END:VEVENT
END:VCALENDAR