BEGIN:VCALENDAR
VERSION:2.0
PRODID:-//Gartenbauverein Bad Bayersoien - ECPv6.15.20//NONSGML v1.0//EN
CALSCALE:GREGORIAN
METHOD:PUBLISH
X-ORIGINAL-URL:https://gartenbauverein-bayersoien.de
X-WR-CALDESC:Veranstaltungen für Gartenbauverein Bad Bayersoien
REFRESH-INTERVAL;VALUE=DURATION:PT1H
X-Robots-Tag:noindex
X-PUBLISHED-TTL:PT1H
BEGIN:VTIMEZONE
TZID:Europe/Paris
BEGIN:DAYLIGHT
TZOFFSETFROM:+0100
TZOFFSETTO:+0200
TZNAME:CEST
DTSTART:20240331T010000
END:DAYLIGHT
BEGIN:STANDARD
TZOFFSETFROM:+0200
TZOFFSETTO:+0100
TZNAME:CET
DTSTART:20241027T010000
END:STANDARD
BEGIN:DAYLIGHT
TZOFFSETFROM:+0100
TZOFFSETTO:+0200
TZNAME:CEST
DTSTART:20250330T010000
END:DAYLIGHT
BEGIN:STANDARD
TZOFFSETFROM:+0200
TZOFFSETTO:+0100
TZNAME:CET
DTSTART:20251026T010000
END:STANDARD
BEGIN:DAYLIGHT
TZOFFSETFROM:+0100
TZOFFSETTO:+0200
TZNAME:CEST
DTSTART:20260329T010000
END:DAYLIGHT
BEGIN:STANDARD
TZOFFSETFROM:+0200
TZOFFSETTO:+0100
TZNAME:CET
DTSTART:20261025T010000
END:STANDARD
END:VTIMEZONE
BEGIN:VEVENT
DTSTART;TZID=Europe/Paris:20251217T180000
DTEND;TZID=Europe/Paris:20251217T220000
DTSTAMP:20260420T134242
CREATED:20251120T110043Z
LAST-MODIFIED:20251217T063527Z
UID:740-1765994400-1766008800@gartenbauverein-bayersoien.de
SUMMARY:Glühweinstand vom Gartenbauverein
DESCRIPTION:Stoßt mit uns an auf’s vergangene und kommende (Garten)jahr\, alle Einnahmen sind zugunsten unserer Vereinskasse und der Jugendarbeit der Gartenspatzen.
URL:https://gartenbauverein-bayersoien.de/veranstaltung/gluehweinstand-vom-gartenbauverein-2/
LOCATION:Brandstatt\, Bad Bayersoien
END:VEVENT
END:VCALENDAR