BEGIN:VCALENDAR
VERSION:2.0
PRODID:-//Gartenbauverein Bad Bayersoien - ECPv6.15.20//NONSGML v1.0//EN
CALSCALE:GREGORIAN
METHOD:PUBLISH
X-WR-CALNAME:Gartenbauverein Bad Bayersoien
X-ORIGINAL-URL:https://gartenbauverein-bayersoien.de
X-WR-CALDESC:Veranstaltungen für Gartenbauverein Bad Bayersoien
REFRESH-INTERVAL;VALUE=DURATION:PT1H
X-Robots-Tag:noindex
X-PUBLISHED-TTL:PT1H
BEGIN:VTIMEZONE
TZID:Europe/Paris
BEGIN:DAYLIGHT
TZOFFSETFROM:+0100
TZOFFSETTO:+0200
TZNAME:CEST
DTSTART:20240331T010000
END:DAYLIGHT
BEGIN:STANDARD
TZOFFSETFROM:+0200
TZOFFSETTO:+0100
TZNAME:CET
DTSTART:20241027T010000
END:STANDARD
BEGIN:DAYLIGHT
TZOFFSETFROM:+0100
TZOFFSETTO:+0200
TZNAME:CEST
DTSTART:20250330T010000
END:DAYLIGHT
BEGIN:STANDARD
TZOFFSETFROM:+0200
TZOFFSETTO:+0100
TZNAME:CET
DTSTART:20251026T010000
END:STANDARD
BEGIN:DAYLIGHT
TZOFFSETFROM:+0100
TZOFFSETTO:+0200
TZNAME:CEST
DTSTART:20260329T010000
END:DAYLIGHT
BEGIN:STANDARD
TZOFFSETFROM:+0200
TZOFFSETTO:+0100
TZNAME:CET
DTSTART:20261025T010000
END:STANDARD
END:VTIMEZONE
BEGIN:VEVENT
DTSTART;TZID=Europe/Paris:20251115T190000
DTEND;TZID=Europe/Paris:20251115T210000
DTSTAMP:20260420T165429
CREATED:20250904T175212Z
LAST-MODIFIED:20250904T175212Z
UID:715-1763233200-1763240400@gartenbauverein-bayersoien.de
SUMMARY:Die geheime Welt der tierischen Einwanderer in unseren Gärten
DESCRIPTION:„Die geheime Welt der tierischen Einwanderer in unseren Gärten“\n\n\n\n\n\n\n\n\n\nBernadette Wimmer stellt Tierarten vor\, denen wir im Zuge des Klimawandels zunehmend in unseren Gärten begegnen. Es handelt sich vor allem um sehr mobile Insektenarten mit hohem Vermehrungspotential\, die aus dem Mittelmeerraum zu uns kommen oder mit Warenlieferungen aus anderen Erdteilen verschleppt wurden und sich bei uns ausbreiten. Dabei geht es sowohl um erfreuliche Bereicherungen unserer heimischen Fauna\, wie z. B. die Holzbiene als auch um problematische Vertreter\, wie z. B. den Buchsbaumzünsler. Die heimischen Insektenfresser können dabei unterstützt werden\, das biologische Gleichgewicht wieder herzustellen. Manchmal bringen die einwandernden Arten ihre Parasiten aus der Fremde gleich mit oder es kommen auch neue räuberisch lebende Arten zu uns wie z. B. die Weißrandfledermaus.
URL:https://gartenbauverein-bayersoien.de/veranstaltung/die-geheime-welt-der-tierischen-einwanderer-in-unseren-gaerten/
LOCATION:Gunklstube\, Brandstatt 12\, 82435 Bad Bayersoien
ATTACH;FMTTYPE=image/jpeg:https://gartenbauverein-bayersoien.de/wp-content/uploads/2024/08/ogv-bb-012.jpg
END:VEVENT
END:VCALENDAR