BEGIN:VCALENDAR
VERSION:2.0
PRODID:-//Gartenbauverein Bad Bayersoien - ECPv6.15.20//NONSGML v1.0//EN
CALSCALE:GREGORIAN
METHOD:PUBLISH
X-ORIGINAL-URL:https://gartenbauverein-bayersoien.de
X-WR-CALDESC:Veranstaltungen für Gartenbauverein Bad Bayersoien
REFRESH-INTERVAL;VALUE=DURATION:PT1H
X-Robots-Tag:noindex
X-PUBLISHED-TTL:PT1H
BEGIN:VTIMEZONE
TZID:Europe/Paris
BEGIN:DAYLIGHT
TZOFFSETFROM:+0100
TZOFFSETTO:+0200
TZNAME:CEST
DTSTART:20240331T010000
END:DAYLIGHT
BEGIN:STANDARD
TZOFFSETFROM:+0200
TZOFFSETTO:+0100
TZNAME:CET
DTSTART:20241027T010000
END:STANDARD
BEGIN:DAYLIGHT
TZOFFSETFROM:+0100
TZOFFSETTO:+0200
TZNAME:CEST
DTSTART:20250330T010000
END:DAYLIGHT
BEGIN:STANDARD
TZOFFSETFROM:+0200
TZOFFSETTO:+0100
TZNAME:CET
DTSTART:20251026T010000
END:STANDARD
BEGIN:DAYLIGHT
TZOFFSETFROM:+0100
TZOFFSETTO:+0200
TZNAME:CEST
DTSTART:20260329T010000
END:DAYLIGHT
BEGIN:STANDARD
TZOFFSETFROM:+0200
TZOFFSETTO:+0100
TZNAME:CET
DTSTART:20261025T010000
END:STANDARD
END:VTIMEZONE
BEGIN:VEVENT
DTSTART;TZID=Europe/Paris:20251019T110000
DTEND;TZID=Europe/Paris:20251019T133000
DTSTAMP:20260420T165631
CREATED:20250812T083908Z
LAST-MODIFIED:20250812T083908Z
UID:712-1760871600-1760880600@gartenbauverein-bayersoien.de
SUMMARY:Gemeinsames Kürbisschnitzen mit Kürbissuppe (für Groß und Klein!)
DESCRIPTION:Die Gartenspatzen laden zu einem Event für Groß und Klein ein: Gemeinsames Kürbisschnitzen:) Lasst uns einen geselligen Sonntag zusammen verbringen und zusammen Kürbisse schnitzen und anschließend gemeinsam eine feine Kürbissuppe kochen und natürlich zusammen essen. Kürbisse werden vom Gartenbauverein gestellt. \nWir treffen uns bei jedem Wetter und freuen uns auf euch!
URL:https://gartenbauverein-bayersoien.de/veranstaltung/gemeinsames-kuerbisschnitzen-mit-kuerbissuppe-fuer-gross-und-klein/
LOCATION:Haserhof\, Filzweg 6\, 82435 Bad Bayersoien
END:VEVENT
END:VCALENDAR