BEGIN:VCALENDAR
VERSION:2.0
PRODID:-//Gartenbauverein Bad Bayersoien - ECPv6.15.20//NONSGML v1.0//EN
CALSCALE:GREGORIAN
METHOD:PUBLISH
X-ORIGINAL-URL:https://gartenbauverein-bayersoien.de
X-WR-CALDESC:Veranstaltungen für Gartenbauverein Bad Bayersoien
REFRESH-INTERVAL;VALUE=DURATION:PT1H
X-Robots-Tag:noindex
X-PUBLISHED-TTL:PT1H
BEGIN:VTIMEZONE
TZID:Europe/Paris
BEGIN:DAYLIGHT
TZOFFSETFROM:+0100
TZOFFSETTO:+0200
TZNAME:CEST
DTSTART:20240331T010000
END:DAYLIGHT
BEGIN:STANDARD
TZOFFSETFROM:+0200
TZOFFSETTO:+0100
TZNAME:CET
DTSTART:20241027T010000
END:STANDARD
BEGIN:DAYLIGHT
TZOFFSETFROM:+0100
TZOFFSETTO:+0200
TZNAME:CEST
DTSTART:20250330T010000
END:DAYLIGHT
BEGIN:STANDARD
TZOFFSETFROM:+0200
TZOFFSETTO:+0100
TZNAME:CET
DTSTART:20251026T010000
END:STANDARD
BEGIN:DAYLIGHT
TZOFFSETFROM:+0100
TZOFFSETTO:+0200
TZNAME:CEST
DTSTART:20260329T010000
END:DAYLIGHT
BEGIN:STANDARD
TZOFFSETFROM:+0200
TZOFFSETTO:+0100
TZNAME:CET
DTSTART:20261025T010000
END:STANDARD
END:VTIMEZONE
BEGIN:VEVENT
DTSTART;TZID=Europe/Paris:20250913T100000
DTEND;TZID=Europe/Paris:20250913T120000
DTSTAMP:20260420T223905
CREATED:20250908T125933Z
LAST-MODIFIED:20250908T125933Z
UID:719-1757757600-1757764800@gartenbauverein-bayersoien.de
SUMMARY:Vorstellung & Waldbegehung mit der Privatwaldgemeinschaft Oberammergau
DESCRIPTION:Am Samstag\, 13. September 2025 von 10:00 – 12:00 Uhr laden wir euch ein zu einer Vorstellung und Waldbegehung mit der Privatwaldgemeinschaft Oberammergau.\nGeführt wird die Veranstaltung von Dominik Rödel\, der uns spannende Einblicke in die Arbeit der Privatwaldgemeinschaft gibt. Im Mittelpunkt stehen die Themen Zukunftswald und Klimawaldumbau – also Fragen\, die für den Erhalt unserer Wälder in Zeiten des Klimawandels von großer Bedeutung sind.\n\nGemeinsam laufen wir vom Treffpunkt (Talstation Laberbahn) aus in den Wald\, wo der Vortrag stattfindet. Der offizielle Teil der Veranstaltung endet um 12 Uhr. Im Anschluss besteht optional die Möglichkeit zu einer gemeinsamen Wanderung auf die Soila Alm mit gemütlicher Einkehr und Brotzeit.\n\nWir freuen uns\, wenn ihr mit dabei seid und gemeinsam mit uns einen Blick in die Zukunft unserer Wälder werft!
URL:https://gartenbauverein-bayersoien.de/veranstaltung/vorstellung-waldbegehung-mit-der-privatwaldgemeinschaft-oberammergau/
LOCATION:Treffpunkt: Laberbahn Talstation\, Ludwig-Langstraße 63\, Oberammergau\, 82487
END:VEVENT
END:VCALENDAR