BEGIN:VCALENDAR
VERSION:2.0
PRODID:-//Gartenbauverein Bad Bayersoien - ECPv6.15.20//NONSGML v1.0//EN
CALSCALE:GREGORIAN
METHOD:PUBLISH
X-WR-CALNAME:Gartenbauverein Bad Bayersoien
X-ORIGINAL-URL:https://gartenbauverein-bayersoien.de
X-WR-CALDESC:Veranstaltungen für Gartenbauverein Bad Bayersoien
REFRESH-INTERVAL;VALUE=DURATION:PT1H
X-Robots-Tag:noindex
X-PUBLISHED-TTL:PT1H
BEGIN:VTIMEZONE
TZID:Europe/Paris
BEGIN:DAYLIGHT
TZOFFSETFROM:+0100
TZOFFSETTO:+0200
TZNAME:CEST
DTSTART:20240331T010000
END:DAYLIGHT
BEGIN:STANDARD
TZOFFSETFROM:+0200
TZOFFSETTO:+0100
TZNAME:CET
DTSTART:20241027T010000
END:STANDARD
BEGIN:DAYLIGHT
TZOFFSETFROM:+0100
TZOFFSETTO:+0200
TZNAME:CEST
DTSTART:20250330T010000
END:DAYLIGHT
BEGIN:STANDARD
TZOFFSETFROM:+0200
TZOFFSETTO:+0100
TZNAME:CET
DTSTART:20251026T010000
END:STANDARD
BEGIN:DAYLIGHT
TZOFFSETFROM:+0100
TZOFFSETTO:+0200
TZNAME:CEST
DTSTART:20260329T010000
END:DAYLIGHT
BEGIN:STANDARD
TZOFFSETFROM:+0200
TZOFFSETTO:+0100
TZNAME:CET
DTSTART:20261025T010000
END:STANDARD
END:VTIMEZONE
BEGIN:VEVENT
DTSTART;TZID=Europe/Paris:20250629T100000
DTEND;TZID=Europe/Paris:20250629T160000
DTSTAMP:20260421T025831
CREATED:20250401T084515Z
LAST-MODIFIED:20250530T041433Z
UID:698-1751191200-1751212800@gartenbauverein-bayersoien.de
SUMMARY:Tag der offenen Gartentür Bad Bayersoien
DESCRIPTION:Nach dem großen Erfolg beim letzten Mal\, freuen wir uns\, dieses Jahr wieder einen Tag der offenen Gartentür anbieten zu können. Dieses Jahr werden 6 Gärten aus dem Dorf teilnehmen. Tipp: nicht alle beim Garten Nr. 1 beginnen\, sondern die Runde versetzt starten\, so dass es nicht zu voll wird in den Gärten. \nHier findet ihr eine Beschreibung unserer schönen Gärten\, die dieses Jahr teilnehmen.\n>> Download Lageplan und detaillierte Beschreibung: aushang_gartentor_2025_qrcode_lageplan \n\nMartina Merz /// Breiten 9\, direkt am Wanderweg zur Soier Mühle\nDer üppig blühende und zertifizierte Naturgarten\n\nHerzlich willkommen in unserem sonnigen Naturparadies am Dorfrand. Auf nur 300 qm erwarten euch viele Ebenen in diesem zertifizierten Naturgarten. Rund ums Haus wechseln \nsich unterschiedlichste Gartenräume und Strukturen ab: Trockenheiße Kiesstandorte als Schmetterlingsmagnete\, Wildwiesen\, Obstbäume\, mediterrane Terrassen und Trockensteinmauern. Totholz schafft Lebensraum in Gemüse- und Staudenbeeten\, Teich und viele Wildpflanzen holen artenreiche Natur in den Garten. \nBei paradiesischer Aussicht in die umliegenden Naturschutzgebiete zeige ich die unterschiedlichen Strukturen und Vorteile im erst 4 Jahre jungen klimaangepassten\, pflegeleichten Garten. \n\nChristina Dichtl und Bernd Rogge /// Ludwigstr. 1\nUnser Garten bietet uns alles\, was ein Garten haben muss:\n\nPlatz für genügend Brennholz; Obstbäume und Gemüsegarten für viel Gesundes aus eigener Hand; Terrassen und Rosenbeete fürs Stillhalten mit Wohlgefühl; viel Platz für ein besonderes Hobby; Rasenfläche fürs Tischtennis; Wildblumenwiese\, Blühsträucher und Gestrüpp für Insekten und andere Kleinwildtiere… Darüber hinaus bietet er einen wunderbaren Blick über die Gartengrenze hinaus in die freie Natur und erweitert sich damit um ein Vielfaches! \n\nGarten Familie Kaspar /// Am Bruckler Filz 10\nDer naturnahe Familiengarten\n\nWir öffnen unsere Gartentür für euch. Ihr könnt bei uns einen kleinen\, atemberaubenden Naturgarten mit vielen verschiedenen Naturspielplätzen kennen lernen. \nDazu bekommt ihr einen inspirierenden Einblick in unsere Vielfalt des Obst-\, Gemüse- & Weinanbaus auf sehr kleiner Fläche. Auch Wildblumen und Wildpflanzen dürfen bei uns natürlich nicht fehlen. \nGenießt euren Nachmittag bei einem kühlen Getränk in unserem kleinen naturnahen Familiengarten\, wir freuen uns auf euch. \n\nMonika Maier /// Filzweg 4\nWarum meinen Garten besuchen? Weil es hier lebt!\n\nOmas alte Steuobstbäume und Beerensträucher gedeihen inmitten einer riesigen Linde und Birken\, umgeben von einer Vielzahl an Wiesenblumen\, Wildkräutern\, Gemüse\, Blumenrabatten und Wildrosen… und jüngeren Bäumen\, die doch eigentlich in den Wald gehören… aber bei mir eben nicht. \n\nUte Bartram-Marx /// Dorfstr. 59\nKleiner neu angelegter Hausgarten mitten im Dorf\n\nSeit Mai 2024 wächst und verändert sich der kleine Garten direkt an der Dorfstraße. Ein kleiner Teil wird für den Gemüseanbau und Kräuter/Wildkräuter genutzt. Der größere Teil des Gartens ist für die Regeneration und das Auge gestaltet mit Beeten\, in denen sich eine Vielfalt an schönen blühenden Pflanzen ausbreiten darf. Neu gestaltet wurde eine begrünte Terrasse mit geschütztem Sitzbereich.\nZum Probieren gibt es kleine Snacks aus der Natur und dem Garten. \n\nGarten Helga Stein /// Trahtweg 9\nNaturnaher Experimentiergarten mit Hühnern und Hunden\n\n2021-2024 neu angelegter\, ca. 1.000 qm großer Vielzonen-Garten – mit unterschiedlichsten Boden- und Feuchtigkeitsverhältnissen. Durch den Neubau des Hauses gibt es starke Bodenverdichtung. Hühner\, 2 Hunde\, Blindschleichen\, Eidechsen\, Kröten und viele Vögel und Insekten leben hier.\nMein Ziel: Diversität und naturnahe Entwicklung. Ich experimentiere und beobachte\, was wo wächst. In den Trockenbereichen wurden viele Recycling-Materialien verwendet\, wo möglich wachsen einheimische Wildpflanzen. Es wird gemulcht mit allem\, was sich anbietet: Baumschnitt\, Heu\, Wolle\, Pflanzenreste. Ein Garten zum Entdecken.
URL:https://gartenbauverein-bayersoien.de/veranstaltung/ankuendigung-tag-der-offenen-gartentuer-bad-bayersoien/
ATTACH;FMTTYPE=image/jpeg:https://gartenbauverein-bayersoien.de/wp-content/uploads/2025/04/garten_merz-1-scaled.jpeg
END:VEVENT
END:VCALENDAR