BEGIN:VCALENDAR
VERSION:2.0
PRODID:-//Gartenbauverein Bad Bayersoien - ECPv6.15.20//NONSGML v1.0//EN
CALSCALE:GREGORIAN
METHOD:PUBLISH
X-ORIGINAL-URL:https://gartenbauverein-bayersoien.de
X-WR-CALDESC:Veranstaltungen für Gartenbauverein Bad Bayersoien
REFRESH-INTERVAL;VALUE=DURATION:PT1H
X-Robots-Tag:noindex
X-PUBLISHED-TTL:PT1H
BEGIN:VTIMEZONE
TZID:Europe/Berlin
BEGIN:DAYLIGHT
TZOFFSETFROM:+0100
TZOFFSETTO:+0200
TZNAME:CEST
DTSTART:20240331T010000
END:DAYLIGHT
BEGIN:STANDARD
TZOFFSETFROM:+0200
TZOFFSETTO:+0100
TZNAME:CET
DTSTART:20241027T010000
END:STANDARD
BEGIN:DAYLIGHT
TZOFFSETFROM:+0100
TZOFFSETTO:+0200
TZNAME:CEST
DTSTART:20250330T010000
END:DAYLIGHT
BEGIN:STANDARD
TZOFFSETFROM:+0200
TZOFFSETTO:+0100
TZNAME:CET
DTSTART:20251026T010000
END:STANDARD
BEGIN:DAYLIGHT
TZOFFSETFROM:+0100
TZOFFSETTO:+0200
TZNAME:CEST
DTSTART:20260329T010000
END:DAYLIGHT
BEGIN:STANDARD
TZOFFSETFROM:+0200
TZOFFSETTO:+0100
TZNAME:CET
DTSTART:20261025T010000
END:STANDARD
END:VTIMEZONE
BEGIN:VEVENT
DTSTART;TZID=Europe/Berlin:20250609T160000
DTEND;TZID=Europe/Berlin:20250609T183000
DTSTAMP:20260421T030046
CREATED:20250304T083718Z
LAST-MODIFIED:20250304T083718Z
UID:683-1749484800-1749493800@gartenbauverein-bayersoien.de
SUMMARY:Essbare Wildpflanzen – Spaziergang im Frühsommer
DESCRIPTION:Die Natur ist ein großer\, kostenloser Garten\, der rund um die Uhr geöffnet hat.\nEr bietet eine große Vielfalt an roh\, gekocht oder eingelegt sehr gut schmeckenden Kräutern\, Blüten\, Baumblättern und Früchten\, die man einfach und gesund in die tägliche Küche integrieren kann.\nBei diesem Wildpflanzenspaziergang mit Martina Merz entdecken wir gemeinsam\, welche Pflanzen essbar sind\, wie man sie verwerten kann\, worauf man beim Sammeln achten muss und was es für giftige Verwechslungspartner gibt. Martina bringt verschiedene Kostproben mit. Der Spaziergang findet auch bei Regen statt\, nicht jedoch bei Schnee oder Frost. \nWICHTIG: Die Führung richtet sich an Erwachsene\, es ist keine Familienführung. Begleitende Kinder sollten mindestens im Grundschulalter sein\, damit sie verstehen\, dass man nicht alle Pflanzen essen kann! \nFür Mitglieder kostenlos. Für Nichtmitglieder 15 €\, max. 25 Teilnehmende \nAnmeldung erwünscht bei martina.merz@merzpunkt.de
URL:https://gartenbauverein-bayersoien.de/veranstaltung/essbare-wildpflanzen-spaziergang-im-fruehsommer/
LOCATION:Parkplatz Soiermühlweg
ATTACH;FMTTYPE=image/jpeg:https://gartenbauverein-bayersoien.de/wp-content/uploads/2025/03/683_image_481478312_610077461939478_8266172097259351159_n.jpg
END:VEVENT
END:VCALENDAR